BEGIN:VCALENDAR
VERSION:2.0
PRODID:-//Ortspartei SVP Langenthal //NONSGML Events //EN
CALSCALE:GREGORIAN
X-WR-CALNAME:Ortspartei SVP Langenthal
BEGIN:VEVENT
CREATED:20240326T132416Z
UID:6120
DTEND:20261105T000000
DTSTART:20261105T000000
DTSTAMP:20260422T085744Z
LOCATION:
DESCRIPTION:
SUMMARY:Delegiertenversammlung SVP Oberaargau
ORGANIZER:
URL;VALUE=URI:https://www.svp-langenthal.ch/aktuell/termine/delegiertenversammlung-hv-svp-oberaargau/
TRANSP:OPAQUE
END:VEVENT
END:VCALENDAR
