BEGIN:VCALENDAR
VERSION:2.0
PRODID:-//Ortspartei SVP Langenthal //NONSGML Events //EN
CALSCALE:GREGORIAN
X-WR-CALNAME:Ortspartei SVP Langenthal
BEGIN:VEVENT
CREATED:20260301T080834Z
UID:6982
DTEND:20261214T000000
DTSTART:20261214T000000
DTSTAMP:20260422T085431Z
LOCATION:
DESCRIPTION:
SUMMARY:Stadtratssitzung
ORGANIZER:
URL;VALUE=URI:https://www.svp-langenthal.ch/aktuell/termine/stadtratssitzung-4/
TRANSP:OPAQUE
END:VEVENT
END:VCALENDAR
